BEGIN:VCALENDAR
VERSION:2.0
PRODID:-//kalenderwoche.info//Kalender//DE
CALSCALE:GREGORIAN
METHOD:PUBLISH
X-WR-CALNAME:Feiertage 1825 Deutschland
X-WR-CALDESC:Gesetzliche Feiertage Deutschland 1825
X-WR-TIMEZONE:Europe/Berlin
BEGIN:VEVENT
UID:feiertag-1825-7a61a0a76274d2f234c84e37fdbcc632@kalenderwoche.info
DTSTAMP:20260423T040423Z
DTSTART;VALUE=DATE:18250101
DTEND;VALUE=DATE:18250102
SUMMARY:Neujahr
DESCRIPTION:Gesetzlicher Feiertag in Deutschland\nDatum: 01.01.1825\nWochentag: Samstag\nKalenderwoche: 53\nMehr unter: https://kalenderwoche.info/feiertage/1825
URL:https://kalenderwoche.info/feiertage/1825
CATEGORIES:Feiertag,Deutschland
TRANSP:TRANSPARENT
END:VEVENT
BEGIN:VEVENT
UID:feiertag-1825-7bfc75b02ac1cad656c66d1112ecb054@kalenderwoche.info
DTSTAMP:20260423T040423Z
DTSTART;VALUE=DATE:18250401
DTEND;VALUE=DATE:18250402
SUMMARY:Karfreitag
DESCRIPTION:Gesetzlicher Feiertag in Deutschland\nDatum: 01.04.1825\nWochentag: Freitag\nKalenderwoche: 13\nMehr unter: https://kalenderwoche.info/feiertage/1825
URL:https://kalenderwoche.info/feiertage/1825
CATEGORIES:Feiertag,Deutschland
TRANSP:TRANSPARENT
END:VEVENT
BEGIN:VEVENT
UID:feiertag-1825-3a0d76a6d09e46face98457e0ae667d1@kalenderwoche.info
DTSTAMP:20260423T040423Z
DTSTART;VALUE=DATE:18250404
DTEND;VALUE=DATE:18250405
SUMMARY:Ostermontag
DESCRIPTION:Gesetzlicher Feiertag in Deutschland\nDatum: 04.04.1825\nWochentag: Montag\nKalenderwoche: 14\nMehr unter: https://kalenderwoche.info/feiertage/1825
URL:https://kalenderwoche.info/feiertage/1825
CATEGORIES:Feiertag,Deutschland
TRANSP:TRANSPARENT
END:VEVENT
BEGIN:VEVENT
UID:feiertag-1825-4a382c60d175c64e26e581ac404adb1c@kalenderwoche.info
DTSTAMP:20260423T040423Z
DTSTART;VALUE=DATE:18250501
DTEND;VALUE=DATE:18250502
SUMMARY:Tag der Arbeit
DESCRIPTION:Gesetzlicher Feiertag in Deutschland\nDatum: 01.05.1825\nWochentag: Sonntag\nKalenderwoche: 17\nMehr unter: https://kalenderwoche.info/feiertage/1825
URL:https://kalenderwoche.info/feiertage/1825
CATEGORIES:Feiertag,Deutschland
TRANSP:TRANSPARENT
END:VEVENT
BEGIN:VEVENT
UID:feiertag-1825-d9ea857e13ef4fac55528f384419dd80@kalenderwoche.info
DTSTAMP:20260423T040423Z
DTSTART;VALUE=DATE:18250512
DTEND;VALUE=DATE:18250513
SUMMARY:Christi Himmelfahrt
DESCRIPTION:Gesetzlicher Feiertag in Deutschland\nDatum: 12.05.1825\nWochentag: Donnerstag\nKalenderwoche: 19\nMehr unter: https://kalenderwoche.info/feiertage/1825
URL:https://kalenderwoche.info/feiertage/1825
CATEGORIES:Feiertag,Deutschland
TRANSP:TRANSPARENT
END:VEVENT
BEGIN:VEVENT
UID:feiertag-1825-d9bc3f02503ad98ba6f059c190115421@kalenderwoche.info
DTSTAMP:20260423T040423Z
DTSTART;VALUE=DATE:18250523
DTEND;VALUE=DATE:18250524
SUMMARY:Pfingstmontag
DESCRIPTION:Gesetzlicher Feiertag in Deutschland\nDatum: 23.05.1825\nWochentag: Montag\nKalenderwoche: 21\nMehr unter: https://kalenderwoche.info/feiertage/1825
URL:https://kalenderwoche.info/feiertage/1825
CATEGORIES:Feiertag,Deutschland
TRANSP:TRANSPARENT
END:VEVENT
BEGIN:VEVENT
UID:feiertag-1825-4b9e7d97324e558fd24c90f4613dff58@kalenderwoche.info
DTSTAMP:20260423T040423Z
DTSTART;VALUE=DATE:18251003
DTEND;VALUE=DATE:18251004
SUMMARY:Tag der Deutschen Einheit
DESCRIPTION:Gesetzlicher Feiertag in Deutschland\nDatum: 03.10.1825\nWochentag: Montag\nKalenderwoche: 40\nMehr unter: https://kalenderwoche.info/feiertage/1825
URL:https://kalenderwoche.info/feiertage/1825
CATEGORIES:Feiertag,Deutschland
TRANSP:TRANSPARENT
END:VEVENT
BEGIN:VEVENT
UID:feiertag-1825-aacf3168661fd18333a503eb91848c61@kalenderwoche.info
DTSTAMP:20260423T040423Z
DTSTART;VALUE=DATE:18251225
DTEND;VALUE=DATE:18251226
SUMMARY:1. Weihnachtstag
DESCRIPTION:Gesetzlicher Feiertag in Deutschland\nDatum: 25.12.1825\nWochentag: Sonntag\nKalenderwoche: 51\nMehr unter: https://kalenderwoche.info/feiertage/1825
URL:https://kalenderwoche.info/feiertage/1825
CATEGORIES:Feiertag,Deutschland
TRANSP:TRANSPARENT
END:VEVENT
BEGIN:VEVENT
UID:feiertag-1825-294db9858a5e74c0cf3f0b9127e04e29@kalenderwoche.info
DTSTAMP:20260423T040423Z
DTSTART;VALUE=DATE:18251226
DTEND;VALUE=DATE:18251227
SUMMARY:2. Weihnachtstag
DESCRIPTION:Gesetzlicher Feiertag in Deutschland\nDatum: 26.12.1825\nWochentag: Montag\nKalenderwoche: 52\nMehr unter: https://kalenderwoche.info/feiertage/1825
URL:https://kalenderwoche.info/feiertage/1825
CATEGORIES:Feiertag,Deutschland
TRANSP:TRANSPARENT
END:VEVENT
END:VCALENDAR
