BEGIN:VCALENDAR
VERSION:2.0
PRODID:-//kalenderwoche.info//Kalender//DE
CALSCALE:GREGORIAN
METHOD:PUBLISH
X-WR-CALNAME:Feiertage 1826 Deutschland
X-WR-CALDESC:Gesetzliche Feiertage Deutschland 1826
X-WR-TIMEZONE:Europe/Berlin
BEGIN:VEVENT
UID:feiertag-1826-7a61a0a76274d2f234c84e37fdbcc632@kalenderwoche.info
DTSTAMP:20260423T023611Z
DTSTART;VALUE=DATE:18260101
DTEND;VALUE=DATE:18260102
SUMMARY:Neujahr
DESCRIPTION:Gesetzlicher Feiertag in Deutschland\nDatum: 01.01.1826\nWochentag: Sonntag\nKalenderwoche: 52\nMehr unter: https://kalenderwoche.info/feiertage/1826
URL:https://kalenderwoche.info/feiertage/1826
CATEGORIES:Feiertag,Deutschland
TRANSP:TRANSPARENT
END:VEVENT
BEGIN:VEVENT
UID:feiertag-1826-7bfc75b02ac1cad656c66d1112ecb054@kalenderwoche.info
DTSTAMP:20260423T023611Z
DTSTART;VALUE=DATE:18260324
DTEND;VALUE=DATE:18260325
SUMMARY:Karfreitag
DESCRIPTION:Gesetzlicher Feiertag in Deutschland\nDatum: 24.03.1826\nWochentag: Freitag\nKalenderwoche: 12\nMehr unter: https://kalenderwoche.info/feiertage/1826
URL:https://kalenderwoche.info/feiertage/1826
CATEGORIES:Feiertag,Deutschland
TRANSP:TRANSPARENT
END:VEVENT
BEGIN:VEVENT
UID:feiertag-1826-3a0d76a6d09e46face98457e0ae667d1@kalenderwoche.info
DTSTAMP:20260423T023611Z
DTSTART;VALUE=DATE:18260327
DTEND;VALUE=DATE:18260328
SUMMARY:Ostermontag
DESCRIPTION:Gesetzlicher Feiertag in Deutschland\nDatum: 27.03.1826\nWochentag: Montag\nKalenderwoche: 13\nMehr unter: https://kalenderwoche.info/feiertage/1826
URL:https://kalenderwoche.info/feiertage/1826
CATEGORIES:Feiertag,Deutschland
TRANSP:TRANSPARENT
END:VEVENT
BEGIN:VEVENT
UID:feiertag-1826-4a382c60d175c64e26e581ac404adb1c@kalenderwoche.info
DTSTAMP:20260423T023611Z
DTSTART;VALUE=DATE:18260501
DTEND;VALUE=DATE:18260502
SUMMARY:Tag der Arbeit
DESCRIPTION:Gesetzlicher Feiertag in Deutschland\nDatum: 01.05.1826\nWochentag: Montag\nKalenderwoche: 18\nMehr unter: https://kalenderwoche.info/feiertage/1826
URL:https://kalenderwoche.info/feiertage/1826
CATEGORIES:Feiertag,Deutschland
TRANSP:TRANSPARENT
END:VEVENT
BEGIN:VEVENT
UID:feiertag-1826-d9ea857e13ef4fac55528f384419dd80@kalenderwoche.info
DTSTAMP:20260423T023611Z
DTSTART;VALUE=DATE:18260504
DTEND;VALUE=DATE:18260505
SUMMARY:Christi Himmelfahrt
DESCRIPTION:Gesetzlicher Feiertag in Deutschland\nDatum: 04.05.1826\nWochentag: Donnerstag\nKalenderwoche: 18\nMehr unter: https://kalenderwoche.info/feiertage/1826
URL:https://kalenderwoche.info/feiertage/1826
CATEGORIES:Feiertag,Deutschland
TRANSP:TRANSPARENT
END:VEVENT
BEGIN:VEVENT
UID:feiertag-1826-d9bc3f02503ad98ba6f059c190115421@kalenderwoche.info
DTSTAMP:20260423T023611Z
DTSTART;VALUE=DATE:18260515
DTEND;VALUE=DATE:18260516
SUMMARY:Pfingstmontag
DESCRIPTION:Gesetzlicher Feiertag in Deutschland\nDatum: 15.05.1826\nWochentag: Montag\nKalenderwoche: 20\nMehr unter: https://kalenderwoche.info/feiertage/1826
URL:https://kalenderwoche.info/feiertage/1826
CATEGORIES:Feiertag,Deutschland
TRANSP:TRANSPARENT
END:VEVENT
BEGIN:VEVENT
UID:feiertag-1826-4b9e7d97324e558fd24c90f4613dff58@kalenderwoche.info
DTSTAMP:20260423T023611Z
DTSTART;VALUE=DATE:18261003
DTEND;VALUE=DATE:18261004
SUMMARY:Tag der Deutschen Einheit
DESCRIPTION:Gesetzlicher Feiertag in Deutschland\nDatum: 03.10.1826\nWochentag: Dienstag\nKalenderwoche: 40\nMehr unter: https://kalenderwoche.info/feiertage/1826
URL:https://kalenderwoche.info/feiertage/1826
CATEGORIES:Feiertag,Deutschland
TRANSP:TRANSPARENT
END:VEVENT
BEGIN:VEVENT
UID:feiertag-1826-aacf3168661fd18333a503eb91848c61@kalenderwoche.info
DTSTAMP:20260423T023611Z
DTSTART;VALUE=DATE:18261225
DTEND;VALUE=DATE:18261226
SUMMARY:1. Weihnachtstag
DESCRIPTION:Gesetzlicher Feiertag in Deutschland\nDatum: 25.12.1826\nWochentag: Montag\nKalenderwoche: 52\nMehr unter: https://kalenderwoche.info/feiertage/1826
URL:https://kalenderwoche.info/feiertage/1826
CATEGORIES:Feiertag,Deutschland
TRANSP:TRANSPARENT
END:VEVENT
BEGIN:VEVENT
UID:feiertag-1826-294db9858a5e74c0cf3f0b9127e04e29@kalenderwoche.info
DTSTAMP:20260423T023611Z
DTSTART;VALUE=DATE:18261226
DTEND;VALUE=DATE:18261227
SUMMARY:2. Weihnachtstag
DESCRIPTION:Gesetzlicher Feiertag in Deutschland\nDatum: 26.12.1826\nWochentag: Dienstag\nKalenderwoche: 52\nMehr unter: https://kalenderwoche.info/feiertage/1826
URL:https://kalenderwoche.info/feiertage/1826
CATEGORIES:Feiertag,Deutschland
TRANSP:TRANSPARENT
END:VEVENT
END:VCALENDAR
