BEGIN:VCALENDAR
VERSION:2.0
PRODID:-//kalenderwoche.info//Kalender//DE
CALSCALE:GREGORIAN
METHOD:PUBLISH
X-WR-CALNAME:Feiertage 1827 Deutschland
X-WR-CALDESC:Gesetzliche Feiertage Deutschland 1827
X-WR-TIMEZONE:Europe/Berlin
BEGIN:VEVENT
UID:feiertag-1827-7a61a0a76274d2f234c84e37fdbcc632@kalenderwoche.info
DTSTAMP:20260423T010946Z
DTSTART;VALUE=DATE:18270101
DTEND;VALUE=DATE:18270102
SUMMARY:Neujahr
DESCRIPTION:Gesetzlicher Feiertag in Deutschland\nDatum: 01.01.1827\nWochentag: Montag\nKalenderwoche: 1\nMehr unter: https://kalenderwoche.info/feiertage/1827
URL:https://kalenderwoche.info/feiertage/1827
CATEGORIES:Feiertag,Deutschland
TRANSP:TRANSPARENT
END:VEVENT
BEGIN:VEVENT
UID:feiertag-1827-7bfc75b02ac1cad656c66d1112ecb054@kalenderwoche.info
DTSTAMP:20260423T010946Z
DTSTART;VALUE=DATE:18270413
DTEND;VALUE=DATE:18270414
SUMMARY:Karfreitag
DESCRIPTION:Gesetzlicher Feiertag in Deutschland\nDatum: 13.04.1827\nWochentag: Freitag\nKalenderwoche: 15\nMehr unter: https://kalenderwoche.info/feiertage/1827
URL:https://kalenderwoche.info/feiertage/1827
CATEGORIES:Feiertag,Deutschland
TRANSP:TRANSPARENT
END:VEVENT
BEGIN:VEVENT
UID:feiertag-1827-3a0d76a6d09e46face98457e0ae667d1@kalenderwoche.info
DTSTAMP:20260423T010946Z
DTSTART;VALUE=DATE:18270416
DTEND;VALUE=DATE:18270417
SUMMARY:Ostermontag
DESCRIPTION:Gesetzlicher Feiertag in Deutschland\nDatum: 16.04.1827\nWochentag: Montag\nKalenderwoche: 16\nMehr unter: https://kalenderwoche.info/feiertage/1827
URL:https://kalenderwoche.info/feiertage/1827
CATEGORIES:Feiertag,Deutschland
TRANSP:TRANSPARENT
END:VEVENT
BEGIN:VEVENT
UID:feiertag-1827-4a382c60d175c64e26e581ac404adb1c@kalenderwoche.info
DTSTAMP:20260423T010946Z
DTSTART;VALUE=DATE:18270501
DTEND;VALUE=DATE:18270502
SUMMARY:Tag der Arbeit
DESCRIPTION:Gesetzlicher Feiertag in Deutschland\nDatum: 01.05.1827\nWochentag: Dienstag\nKalenderwoche: 18\nMehr unter: https://kalenderwoche.info/feiertage/1827
URL:https://kalenderwoche.info/feiertage/1827
CATEGORIES:Feiertag,Deutschland
TRANSP:TRANSPARENT
END:VEVENT
BEGIN:VEVENT
UID:feiertag-1827-d9ea857e13ef4fac55528f384419dd80@kalenderwoche.info
DTSTAMP:20260423T010946Z
DTSTART;VALUE=DATE:18270524
DTEND;VALUE=DATE:18270525
SUMMARY:Christi Himmelfahrt
DESCRIPTION:Gesetzlicher Feiertag in Deutschland\nDatum: 24.05.1827\nWochentag: Donnerstag\nKalenderwoche: 21\nMehr unter: https://kalenderwoche.info/feiertage/1827
URL:https://kalenderwoche.info/feiertage/1827
CATEGORIES:Feiertag,Deutschland
TRANSP:TRANSPARENT
END:VEVENT
BEGIN:VEVENT
UID:feiertag-1827-d9bc3f02503ad98ba6f059c190115421@kalenderwoche.info
DTSTAMP:20260423T010946Z
DTSTART;VALUE=DATE:18270604
DTEND;VALUE=DATE:18270605
SUMMARY:Pfingstmontag
DESCRIPTION:Gesetzlicher Feiertag in Deutschland\nDatum: 04.06.1827\nWochentag: Montag\nKalenderwoche: 23\nMehr unter: https://kalenderwoche.info/feiertage/1827
URL:https://kalenderwoche.info/feiertage/1827
CATEGORIES:Feiertag,Deutschland
TRANSP:TRANSPARENT
END:VEVENT
BEGIN:VEVENT
UID:feiertag-1827-4b9e7d97324e558fd24c90f4613dff58@kalenderwoche.info
DTSTAMP:20260423T010946Z
DTSTART;VALUE=DATE:18271003
DTEND;VALUE=DATE:18271004
SUMMARY:Tag der Deutschen Einheit
DESCRIPTION:Gesetzlicher Feiertag in Deutschland\nDatum: 03.10.1827\nWochentag: Mittwoch\nKalenderwoche: 40\nMehr unter: https://kalenderwoche.info/feiertage/1827
URL:https://kalenderwoche.info/feiertage/1827
CATEGORIES:Feiertag,Deutschland
TRANSP:TRANSPARENT
END:VEVENT
BEGIN:VEVENT
UID:feiertag-1827-aacf3168661fd18333a503eb91848c61@kalenderwoche.info
DTSTAMP:20260423T010946Z
DTSTART;VALUE=DATE:18271225
DTEND;VALUE=DATE:18271226
SUMMARY:1. Weihnachtstag
DESCRIPTION:Gesetzlicher Feiertag in Deutschland\nDatum: 25.12.1827\nWochentag: Dienstag\nKalenderwoche: 52\nMehr unter: https://kalenderwoche.info/feiertage/1827
URL:https://kalenderwoche.info/feiertage/1827
CATEGORIES:Feiertag,Deutschland
TRANSP:TRANSPARENT
END:VEVENT
BEGIN:VEVENT
UID:feiertag-1827-294db9858a5e74c0cf3f0b9127e04e29@kalenderwoche.info
DTSTAMP:20260423T010946Z
DTSTART;VALUE=DATE:18271226
DTEND;VALUE=DATE:18271227
SUMMARY:2. Weihnachtstag
DESCRIPTION:Gesetzlicher Feiertag in Deutschland\nDatum: 26.12.1827\nWochentag: Mittwoch\nKalenderwoche: 52\nMehr unter: https://kalenderwoche.info/feiertage/1827
URL:https://kalenderwoche.info/feiertage/1827
CATEGORIES:Feiertag,Deutschland
TRANSP:TRANSPARENT
END:VEVENT
END:VCALENDAR
