BEGIN:VCALENDAR
VERSION:2.0
PRODID:-//kalenderwoche.info//Kalender//DE
CALSCALE:GREGORIAN
METHOD:PUBLISH
X-WR-CALNAME:Feiertage 1835 Deutschland
X-WR-CALDESC:Gesetzliche Feiertage Deutschland 1835
X-WR-TIMEZONE:Europe/Berlin
BEGIN:VEVENT
UID:feiertag-1835-7a61a0a76274d2f234c84e37fdbcc632@kalenderwoche.info
DTSTAMP:20260422T135354Z
DTSTART;VALUE=DATE:18350101
DTEND;VALUE=DATE:18350102
SUMMARY:Neujahr
DESCRIPTION:Gesetzlicher Feiertag in Deutschland\nDatum: 01.01.1835\nWochentag: Donnerstag\nKalenderwoche: 1\nMehr unter: https://kalenderwoche.info/feiertage/1835
URL:https://kalenderwoche.info/feiertage/1835
CATEGORIES:Feiertag,Deutschland
TRANSP:TRANSPARENT
END:VEVENT
BEGIN:VEVENT
UID:feiertag-1835-7bfc75b02ac1cad656c66d1112ecb054@kalenderwoche.info
DTSTAMP:20260422T135354Z
DTSTART;VALUE=DATE:18350417
DTEND;VALUE=DATE:18350418
SUMMARY:Karfreitag
DESCRIPTION:Gesetzlicher Feiertag in Deutschland\nDatum: 17.04.1835\nWochentag: Freitag\nKalenderwoche: 16\nMehr unter: https://kalenderwoche.info/feiertage/1835
URL:https://kalenderwoche.info/feiertage/1835
CATEGORIES:Feiertag,Deutschland
TRANSP:TRANSPARENT
END:VEVENT
BEGIN:VEVENT
UID:feiertag-1835-3a0d76a6d09e46face98457e0ae667d1@kalenderwoche.info
DTSTAMP:20260422T135354Z
DTSTART;VALUE=DATE:18350420
DTEND;VALUE=DATE:18350421
SUMMARY:Ostermontag
DESCRIPTION:Gesetzlicher Feiertag in Deutschland\nDatum: 20.04.1835\nWochentag: Montag\nKalenderwoche: 17\nMehr unter: https://kalenderwoche.info/feiertage/1835
URL:https://kalenderwoche.info/feiertage/1835
CATEGORIES:Feiertag,Deutschland
TRANSP:TRANSPARENT
END:VEVENT
BEGIN:VEVENT
UID:feiertag-1835-4a382c60d175c64e26e581ac404adb1c@kalenderwoche.info
DTSTAMP:20260422T135354Z
DTSTART;VALUE=DATE:18350501
DTEND;VALUE=DATE:18350502
SUMMARY:Tag der Arbeit
DESCRIPTION:Gesetzlicher Feiertag in Deutschland\nDatum: 01.05.1835\nWochentag: Freitag\nKalenderwoche: 18\nMehr unter: https://kalenderwoche.info/feiertage/1835
URL:https://kalenderwoche.info/feiertage/1835
CATEGORIES:Feiertag,Deutschland
TRANSP:TRANSPARENT
END:VEVENT
BEGIN:VEVENT
UID:feiertag-1835-d9ea857e13ef4fac55528f384419dd80@kalenderwoche.info
DTSTAMP:20260422T135354Z
DTSTART;VALUE=DATE:18350528
DTEND;VALUE=DATE:18350529
SUMMARY:Christi Himmelfahrt
DESCRIPTION:Gesetzlicher Feiertag in Deutschland\nDatum: 28.05.1835\nWochentag: Donnerstag\nKalenderwoche: 22\nMehr unter: https://kalenderwoche.info/feiertage/1835
URL:https://kalenderwoche.info/feiertage/1835
CATEGORIES:Feiertag,Deutschland
TRANSP:TRANSPARENT
END:VEVENT
BEGIN:VEVENT
UID:feiertag-1835-d9bc3f02503ad98ba6f059c190115421@kalenderwoche.info
DTSTAMP:20260422T135354Z
DTSTART;VALUE=DATE:18350608
DTEND;VALUE=DATE:18350609
SUMMARY:Pfingstmontag
DESCRIPTION:Gesetzlicher Feiertag in Deutschland\nDatum: 08.06.1835\nWochentag: Montag\nKalenderwoche: 24\nMehr unter: https://kalenderwoche.info/feiertage/1835
URL:https://kalenderwoche.info/feiertage/1835
CATEGORIES:Feiertag,Deutschland
TRANSP:TRANSPARENT
END:VEVENT
BEGIN:VEVENT
UID:feiertag-1835-4b9e7d97324e558fd24c90f4613dff58@kalenderwoche.info
DTSTAMP:20260422T135354Z
DTSTART;VALUE=DATE:18351003
DTEND;VALUE=DATE:18351004
SUMMARY:Tag der Deutschen Einheit
DESCRIPTION:Gesetzlicher Feiertag in Deutschland\nDatum: 03.10.1835\nWochentag: Samstag\nKalenderwoche: 40\nMehr unter: https://kalenderwoche.info/feiertage/1835
URL:https://kalenderwoche.info/feiertage/1835
CATEGORIES:Feiertag,Deutschland
TRANSP:TRANSPARENT
END:VEVENT
BEGIN:VEVENT
UID:feiertag-1835-aacf3168661fd18333a503eb91848c61@kalenderwoche.info
DTSTAMP:20260422T135354Z
DTSTART;VALUE=DATE:18351225
DTEND;VALUE=DATE:18351226
SUMMARY:1. Weihnachtstag
DESCRIPTION:Gesetzlicher Feiertag in Deutschland\nDatum: 25.12.1835\nWochentag: Freitag\nKalenderwoche: 52\nMehr unter: https://kalenderwoche.info/feiertage/1835
URL:https://kalenderwoche.info/feiertage/1835
CATEGORIES:Feiertag,Deutschland
TRANSP:TRANSPARENT
END:VEVENT
BEGIN:VEVENT
UID:feiertag-1835-294db9858a5e74c0cf3f0b9127e04e29@kalenderwoche.info
DTSTAMP:20260422T135354Z
DTSTART;VALUE=DATE:18351226
DTEND;VALUE=DATE:18351227
SUMMARY:2. Weihnachtstag
DESCRIPTION:Gesetzlicher Feiertag in Deutschland\nDatum: 26.12.1835\nWochentag: Samstag\nKalenderwoche: 52\nMehr unter: https://kalenderwoche.info/feiertage/1835
URL:https://kalenderwoche.info/feiertage/1835
CATEGORIES:Feiertag,Deutschland
TRANSP:TRANSPARENT
END:VEVENT
END:VCALENDAR
