BEGIN:VCALENDAR
VERSION:2.0
PRODID:-//kalenderwoche.info//Kalender//DE
CALSCALE:GREGORIAN
METHOD:PUBLISH
X-WR-CALNAME:Feiertage 1837 Deutschland
X-WR-CALDESC:Gesetzliche Feiertage Deutschland 1837
X-WR-TIMEZONE:Europe/Berlin
BEGIN:VEVENT
UID:feiertag-1837-7a61a0a76274d2f234c84e37fdbcc632@kalenderwoche.info
DTSTAMP:20260422T110047Z
DTSTART;VALUE=DATE:18370101
DTEND;VALUE=DATE:18370102
SUMMARY:Neujahr
DESCRIPTION:Gesetzlicher Feiertag in Deutschland\nDatum: 01.01.1837\nWochentag: Sonntag\nKalenderwoche: 52\nMehr unter: https://kalenderwoche.info/feiertage/1837
URL:https://kalenderwoche.info/feiertage/1837
CATEGORIES:Feiertag,Deutschland
TRANSP:TRANSPARENT
END:VEVENT
BEGIN:VEVENT
UID:feiertag-1837-7bfc75b02ac1cad656c66d1112ecb054@kalenderwoche.info
DTSTAMP:20260422T110047Z
DTSTART;VALUE=DATE:18370324
DTEND;VALUE=DATE:18370325
SUMMARY:Karfreitag
DESCRIPTION:Gesetzlicher Feiertag in Deutschland\nDatum: 24.03.1837\nWochentag: Freitag\nKalenderwoche: 12\nMehr unter: https://kalenderwoche.info/feiertage/1837
URL:https://kalenderwoche.info/feiertage/1837
CATEGORIES:Feiertag,Deutschland
TRANSP:TRANSPARENT
END:VEVENT
BEGIN:VEVENT
UID:feiertag-1837-3a0d76a6d09e46face98457e0ae667d1@kalenderwoche.info
DTSTAMP:20260422T110047Z
DTSTART;VALUE=DATE:18370327
DTEND;VALUE=DATE:18370328
SUMMARY:Ostermontag
DESCRIPTION:Gesetzlicher Feiertag in Deutschland\nDatum: 27.03.1837\nWochentag: Montag\nKalenderwoche: 13\nMehr unter: https://kalenderwoche.info/feiertage/1837
URL:https://kalenderwoche.info/feiertage/1837
CATEGORIES:Feiertag,Deutschland
TRANSP:TRANSPARENT
END:VEVENT
BEGIN:VEVENT
UID:feiertag-1837-4a382c60d175c64e26e581ac404adb1c@kalenderwoche.info
DTSTAMP:20260422T110047Z
DTSTART;VALUE=DATE:18370501
DTEND;VALUE=DATE:18370502
SUMMARY:Tag der Arbeit
DESCRIPTION:Gesetzlicher Feiertag in Deutschland\nDatum: 01.05.1837\nWochentag: Montag\nKalenderwoche: 18\nMehr unter: https://kalenderwoche.info/feiertage/1837
URL:https://kalenderwoche.info/feiertage/1837
CATEGORIES:Feiertag,Deutschland
TRANSP:TRANSPARENT
END:VEVENT
BEGIN:VEVENT
UID:feiertag-1837-d9ea857e13ef4fac55528f384419dd80@kalenderwoche.info
DTSTAMP:20260422T110047Z
DTSTART;VALUE=DATE:18370504
DTEND;VALUE=DATE:18370505
SUMMARY:Christi Himmelfahrt
DESCRIPTION:Gesetzlicher Feiertag in Deutschland\nDatum: 04.05.1837\nWochentag: Donnerstag\nKalenderwoche: 18\nMehr unter: https://kalenderwoche.info/feiertage/1837
URL:https://kalenderwoche.info/feiertage/1837
CATEGORIES:Feiertag,Deutschland
TRANSP:TRANSPARENT
END:VEVENT
BEGIN:VEVENT
UID:feiertag-1837-d9bc3f02503ad98ba6f059c190115421@kalenderwoche.info
DTSTAMP:20260422T110047Z
DTSTART;VALUE=DATE:18370515
DTEND;VALUE=DATE:18370516
SUMMARY:Pfingstmontag
DESCRIPTION:Gesetzlicher Feiertag in Deutschland\nDatum: 15.05.1837\nWochentag: Montag\nKalenderwoche: 20\nMehr unter: https://kalenderwoche.info/feiertage/1837
URL:https://kalenderwoche.info/feiertage/1837
CATEGORIES:Feiertag,Deutschland
TRANSP:TRANSPARENT
END:VEVENT
BEGIN:VEVENT
UID:feiertag-1837-4b9e7d97324e558fd24c90f4613dff58@kalenderwoche.info
DTSTAMP:20260422T110047Z
DTSTART;VALUE=DATE:18371003
DTEND;VALUE=DATE:18371004
SUMMARY:Tag der Deutschen Einheit
DESCRIPTION:Gesetzlicher Feiertag in Deutschland\nDatum: 03.10.1837\nWochentag: Dienstag\nKalenderwoche: 40\nMehr unter: https://kalenderwoche.info/feiertage/1837
URL:https://kalenderwoche.info/feiertage/1837
CATEGORIES:Feiertag,Deutschland
TRANSP:TRANSPARENT
END:VEVENT
BEGIN:VEVENT
UID:feiertag-1837-aacf3168661fd18333a503eb91848c61@kalenderwoche.info
DTSTAMP:20260422T110047Z
DTSTART;VALUE=DATE:18371225
DTEND;VALUE=DATE:18371226
SUMMARY:1. Weihnachtstag
DESCRIPTION:Gesetzlicher Feiertag in Deutschland\nDatum: 25.12.1837\nWochentag: Montag\nKalenderwoche: 52\nMehr unter: https://kalenderwoche.info/feiertage/1837
URL:https://kalenderwoche.info/feiertage/1837
CATEGORIES:Feiertag,Deutschland
TRANSP:TRANSPARENT
END:VEVENT
BEGIN:VEVENT
UID:feiertag-1837-294db9858a5e74c0cf3f0b9127e04e29@kalenderwoche.info
DTSTAMP:20260422T110047Z
DTSTART;VALUE=DATE:18371226
DTEND;VALUE=DATE:18371227
SUMMARY:2. Weihnachtstag
DESCRIPTION:Gesetzlicher Feiertag in Deutschland\nDatum: 26.12.1837\nWochentag: Dienstag\nKalenderwoche: 52\nMehr unter: https://kalenderwoche.info/feiertage/1837
URL:https://kalenderwoche.info/feiertage/1837
CATEGORIES:Feiertag,Deutschland
TRANSP:TRANSPARENT
END:VEVENT
END:VCALENDAR
