BEGIN:VCALENDAR
VERSION:2.0
PRODID:-//kalenderwoche.info//Kalender//DE
CALSCALE:GREGORIAN
METHOD:PUBLISH
X-WR-CALNAME:Feiertage 1845 Deutschland
X-WR-CALDESC:Gesetzliche Feiertage Deutschland 1845
X-WR-TIMEZONE:Europe/Berlin
BEGIN:VEVENT
UID:feiertag-1845-7a61a0a76274d2f234c84e37fdbcc632@kalenderwoche.info
DTSTAMP:20260422T002509Z
DTSTART;VALUE=DATE:18450101
DTEND;VALUE=DATE:18450102
SUMMARY:Neujahr
DESCRIPTION:Gesetzlicher Feiertag in Deutschland\nDatum: 01.01.1845\nWochentag: Mittwoch\nKalenderwoche: 1\nMehr unter: https://kalenderwoche.info/feiertage/1845
URL:https://kalenderwoche.info/feiertage/1845
CATEGORIES:Feiertag,Deutschland
TRANSP:TRANSPARENT
END:VEVENT
BEGIN:VEVENT
UID:feiertag-1845-7bfc75b02ac1cad656c66d1112ecb054@kalenderwoche.info
DTSTAMP:20260422T002509Z
DTSTART;VALUE=DATE:18450321
DTEND;VALUE=DATE:18450322
SUMMARY:Karfreitag
DESCRIPTION:Gesetzlicher Feiertag in Deutschland\nDatum: 21.03.1845\nWochentag: Freitag\nKalenderwoche: 12\nMehr unter: https://kalenderwoche.info/feiertage/1845
URL:https://kalenderwoche.info/feiertage/1845
CATEGORIES:Feiertag,Deutschland
TRANSP:TRANSPARENT
END:VEVENT
BEGIN:VEVENT
UID:feiertag-1845-3a0d76a6d09e46face98457e0ae667d1@kalenderwoche.info
DTSTAMP:20260422T002509Z
DTSTART;VALUE=DATE:18450324
DTEND;VALUE=DATE:18450325
SUMMARY:Ostermontag
DESCRIPTION:Gesetzlicher Feiertag in Deutschland\nDatum: 24.03.1845\nWochentag: Montag\nKalenderwoche: 13\nMehr unter: https://kalenderwoche.info/feiertage/1845
URL:https://kalenderwoche.info/feiertage/1845
CATEGORIES:Feiertag,Deutschland
TRANSP:TRANSPARENT
END:VEVENT
BEGIN:VEVENT
UID:feiertag-1845-4a382c60d175c64e26e581ac404adb1c@kalenderwoche.info
DTSTAMP:20260422T002509Z
DTSTART;VALUE=DATE:18450501
DTEND;VALUE=DATE:18450502
SUMMARY:Tag der Arbeit
DESCRIPTION:Gesetzlicher Feiertag in Deutschland\nDatum: 01.05.1845\nWochentag: Donnerstag\nKalenderwoche: 18\nMehr unter: https://kalenderwoche.info/feiertage/1845
URL:https://kalenderwoche.info/feiertage/1845
CATEGORIES:Feiertag,Deutschland
TRANSP:TRANSPARENT
END:VEVENT
BEGIN:VEVENT
UID:feiertag-1845-d9ea857e13ef4fac55528f384419dd80@kalenderwoche.info
DTSTAMP:20260422T002509Z
DTSTART;VALUE=DATE:18450501
DTEND;VALUE=DATE:18450502
SUMMARY:Christi Himmelfahrt
DESCRIPTION:Gesetzlicher Feiertag in Deutschland\nDatum: 01.05.1845\nWochentag: Donnerstag\nKalenderwoche: 18\nMehr unter: https://kalenderwoche.info/feiertage/1845
URL:https://kalenderwoche.info/feiertage/1845
CATEGORIES:Feiertag,Deutschland
TRANSP:TRANSPARENT
END:VEVENT
BEGIN:VEVENT
UID:feiertag-1845-d9bc3f02503ad98ba6f059c190115421@kalenderwoche.info
DTSTAMP:20260422T002509Z
DTSTART;VALUE=DATE:18450512
DTEND;VALUE=DATE:18450513
SUMMARY:Pfingstmontag
DESCRIPTION:Gesetzlicher Feiertag in Deutschland\nDatum: 12.05.1845\nWochentag: Montag\nKalenderwoche: 20\nMehr unter: https://kalenderwoche.info/feiertage/1845
URL:https://kalenderwoche.info/feiertage/1845
CATEGORIES:Feiertag,Deutschland
TRANSP:TRANSPARENT
END:VEVENT
BEGIN:VEVENT
UID:feiertag-1845-4b9e7d97324e558fd24c90f4613dff58@kalenderwoche.info
DTSTAMP:20260422T002509Z
DTSTART;VALUE=DATE:18451003
DTEND;VALUE=DATE:18451004
SUMMARY:Tag der Deutschen Einheit
DESCRIPTION:Gesetzlicher Feiertag in Deutschland\nDatum: 03.10.1845\nWochentag: Freitag\nKalenderwoche: 40\nMehr unter: https://kalenderwoche.info/feiertage/1845
URL:https://kalenderwoche.info/feiertage/1845
CATEGORIES:Feiertag,Deutschland
TRANSP:TRANSPARENT
END:VEVENT
BEGIN:VEVENT
UID:feiertag-1845-aacf3168661fd18333a503eb91848c61@kalenderwoche.info
DTSTAMP:20260422T002509Z
DTSTART;VALUE=DATE:18451225
DTEND;VALUE=DATE:18451226
SUMMARY:1. Weihnachtstag
DESCRIPTION:Gesetzlicher Feiertag in Deutschland\nDatum: 25.12.1845\nWochentag: Donnerstag\nKalenderwoche: 52\nMehr unter: https://kalenderwoche.info/feiertage/1845
URL:https://kalenderwoche.info/feiertage/1845
CATEGORIES:Feiertag,Deutschland
TRANSP:TRANSPARENT
END:VEVENT
BEGIN:VEVENT
UID:feiertag-1845-294db9858a5e74c0cf3f0b9127e04e29@kalenderwoche.info
DTSTAMP:20260422T002509Z
DTSTART;VALUE=DATE:18451226
DTEND;VALUE=DATE:18451227
SUMMARY:2. Weihnachtstag
DESCRIPTION:Gesetzlicher Feiertag in Deutschland\nDatum: 26.12.1845\nWochentag: Freitag\nKalenderwoche: 52\nMehr unter: https://kalenderwoche.info/feiertage/1845
URL:https://kalenderwoche.info/feiertage/1845
CATEGORIES:Feiertag,Deutschland
TRANSP:TRANSPARENT
END:VEVENT
END:VCALENDAR
