BEGIN:VCALENDAR
VERSION:2.0
PRODID:-//kalenderwoche.info//Kalender//DE
CALSCALE:GREGORIAN
METHOD:PUBLISH
X-WR-CALNAME:Feiertage 1849 Deutschland
X-WR-CALDESC:Gesetzliche Feiertage Deutschland 1849
X-WR-TIMEZONE:Europe/Berlin
BEGIN:VEVENT
UID:feiertag-1849-7a61a0a76274d2f234c84e37fdbcc632@kalenderwoche.info
DTSTAMP:20260421T190547Z
DTSTART;VALUE=DATE:18490101
DTEND;VALUE=DATE:18490102
SUMMARY:Neujahr
DESCRIPTION:Gesetzlicher Feiertag in Deutschland\nDatum: 01.01.1849\nWochentag: Montag\nKalenderwoche: 1\nMehr unter: https://kalenderwoche.info/feiertage/1849
URL:https://kalenderwoche.info/feiertage/1849
CATEGORIES:Feiertag,Deutschland
TRANSP:TRANSPARENT
END:VEVENT
BEGIN:VEVENT
UID:feiertag-1849-7bfc75b02ac1cad656c66d1112ecb054@kalenderwoche.info
DTSTAMP:20260421T190547Z
DTSTART;VALUE=DATE:18490406
DTEND;VALUE=DATE:18490407
SUMMARY:Karfreitag
DESCRIPTION:Gesetzlicher Feiertag in Deutschland\nDatum: 06.04.1849\nWochentag: Freitag\nKalenderwoche: 14\nMehr unter: https://kalenderwoche.info/feiertage/1849
URL:https://kalenderwoche.info/feiertage/1849
CATEGORIES:Feiertag,Deutschland
TRANSP:TRANSPARENT
END:VEVENT
BEGIN:VEVENT
UID:feiertag-1849-3a0d76a6d09e46face98457e0ae667d1@kalenderwoche.info
DTSTAMP:20260421T190547Z
DTSTART;VALUE=DATE:18490409
DTEND;VALUE=DATE:18490410
SUMMARY:Ostermontag
DESCRIPTION:Gesetzlicher Feiertag in Deutschland\nDatum: 09.04.1849\nWochentag: Montag\nKalenderwoche: 15\nMehr unter: https://kalenderwoche.info/feiertage/1849
URL:https://kalenderwoche.info/feiertage/1849
CATEGORIES:Feiertag,Deutschland
TRANSP:TRANSPARENT
END:VEVENT
BEGIN:VEVENT
UID:feiertag-1849-4a382c60d175c64e26e581ac404adb1c@kalenderwoche.info
DTSTAMP:20260421T190547Z
DTSTART;VALUE=DATE:18490501
DTEND;VALUE=DATE:18490502
SUMMARY:Tag der Arbeit
DESCRIPTION:Gesetzlicher Feiertag in Deutschland\nDatum: 01.05.1849\nWochentag: Dienstag\nKalenderwoche: 18\nMehr unter: https://kalenderwoche.info/feiertage/1849
URL:https://kalenderwoche.info/feiertage/1849
CATEGORIES:Feiertag,Deutschland
TRANSP:TRANSPARENT
END:VEVENT
BEGIN:VEVENT
UID:feiertag-1849-d9ea857e13ef4fac55528f384419dd80@kalenderwoche.info
DTSTAMP:20260421T190547Z
DTSTART;VALUE=DATE:18490517
DTEND;VALUE=DATE:18490518
SUMMARY:Christi Himmelfahrt
DESCRIPTION:Gesetzlicher Feiertag in Deutschland\nDatum: 17.05.1849\nWochentag: Donnerstag\nKalenderwoche: 20\nMehr unter: https://kalenderwoche.info/feiertage/1849
URL:https://kalenderwoche.info/feiertage/1849
CATEGORIES:Feiertag,Deutschland
TRANSP:TRANSPARENT
END:VEVENT
BEGIN:VEVENT
UID:feiertag-1849-d9bc3f02503ad98ba6f059c190115421@kalenderwoche.info
DTSTAMP:20260421T190547Z
DTSTART;VALUE=DATE:18490528
DTEND;VALUE=DATE:18490529
SUMMARY:Pfingstmontag
DESCRIPTION:Gesetzlicher Feiertag in Deutschland\nDatum: 28.05.1849\nWochentag: Montag\nKalenderwoche: 22\nMehr unter: https://kalenderwoche.info/feiertage/1849
URL:https://kalenderwoche.info/feiertage/1849
CATEGORIES:Feiertag,Deutschland
TRANSP:TRANSPARENT
END:VEVENT
BEGIN:VEVENT
UID:feiertag-1849-4b9e7d97324e558fd24c90f4613dff58@kalenderwoche.info
DTSTAMP:20260421T190547Z
DTSTART;VALUE=DATE:18491003
DTEND;VALUE=DATE:18491004
SUMMARY:Tag der Deutschen Einheit
DESCRIPTION:Gesetzlicher Feiertag in Deutschland\nDatum: 03.10.1849\nWochentag: Mittwoch\nKalenderwoche: 40\nMehr unter: https://kalenderwoche.info/feiertage/1849
URL:https://kalenderwoche.info/feiertage/1849
CATEGORIES:Feiertag,Deutschland
TRANSP:TRANSPARENT
END:VEVENT
BEGIN:VEVENT
UID:feiertag-1849-aacf3168661fd18333a503eb91848c61@kalenderwoche.info
DTSTAMP:20260421T190547Z
DTSTART;VALUE=DATE:18491225
DTEND;VALUE=DATE:18491226
SUMMARY:1. Weihnachtstag
DESCRIPTION:Gesetzlicher Feiertag in Deutschland\nDatum: 25.12.1849\nWochentag: Dienstag\nKalenderwoche: 52\nMehr unter: https://kalenderwoche.info/feiertage/1849
URL:https://kalenderwoche.info/feiertage/1849
CATEGORIES:Feiertag,Deutschland
TRANSP:TRANSPARENT
END:VEVENT
BEGIN:VEVENT
UID:feiertag-1849-294db9858a5e74c0cf3f0b9127e04e29@kalenderwoche.info
DTSTAMP:20260421T190547Z
DTSTART;VALUE=DATE:18491226
DTEND;VALUE=DATE:18491227
SUMMARY:2. Weihnachtstag
DESCRIPTION:Gesetzlicher Feiertag in Deutschland\nDatum: 26.12.1849\nWochentag: Mittwoch\nKalenderwoche: 52\nMehr unter: https://kalenderwoche.info/feiertage/1849
URL:https://kalenderwoche.info/feiertage/1849
CATEGORIES:Feiertag,Deutschland
TRANSP:TRANSPARENT
END:VEVENT
END:VCALENDAR
