BEGIN:VCALENDAR
VERSION:2.0
PRODID:-//kalenderwoche.info//Kalender//DE
CALSCALE:GREGORIAN
METHOD:PUBLISH
X-WR-CALNAME:Feiertage 1851 Deutschland
X-WR-CALDESC:Gesetzliche Feiertage Deutschland 1851
X-WR-TIMEZONE:Europe/Berlin
BEGIN:VEVENT
UID:feiertag-1851-7a61a0a76274d2f234c84e37fdbcc632@kalenderwoche.info
DTSTAMP:20260421T162412Z
DTSTART;VALUE=DATE:18510101
DTEND;VALUE=DATE:18510102
SUMMARY:Neujahr
DESCRIPTION:Gesetzlicher Feiertag in Deutschland\nDatum: 01.01.1851\nWochentag: Mittwoch\nKalenderwoche: 1\nMehr unter: https://kalenderwoche.info/feiertage/1851
URL:https://kalenderwoche.info/feiertage/1851
CATEGORIES:Feiertag,Deutschland
TRANSP:TRANSPARENT
END:VEVENT
BEGIN:VEVENT
UID:feiertag-1851-7bfc75b02ac1cad656c66d1112ecb054@kalenderwoche.info
DTSTAMP:20260421T162412Z
DTSTART;VALUE=DATE:18510418
DTEND;VALUE=DATE:18510419
SUMMARY:Karfreitag
DESCRIPTION:Gesetzlicher Feiertag in Deutschland\nDatum: 18.04.1851\nWochentag: Freitag\nKalenderwoche: 16\nMehr unter: https://kalenderwoche.info/feiertage/1851
URL:https://kalenderwoche.info/feiertage/1851
CATEGORIES:Feiertag,Deutschland
TRANSP:TRANSPARENT
END:VEVENT
BEGIN:VEVENT
UID:feiertag-1851-3a0d76a6d09e46face98457e0ae667d1@kalenderwoche.info
DTSTAMP:20260421T162412Z
DTSTART;VALUE=DATE:18510421
DTEND;VALUE=DATE:18510422
SUMMARY:Ostermontag
DESCRIPTION:Gesetzlicher Feiertag in Deutschland\nDatum: 21.04.1851\nWochentag: Montag\nKalenderwoche: 17\nMehr unter: https://kalenderwoche.info/feiertage/1851
URL:https://kalenderwoche.info/feiertage/1851
CATEGORIES:Feiertag,Deutschland
TRANSP:TRANSPARENT
END:VEVENT
BEGIN:VEVENT
UID:feiertag-1851-4a382c60d175c64e26e581ac404adb1c@kalenderwoche.info
DTSTAMP:20260421T162412Z
DTSTART;VALUE=DATE:18510501
DTEND;VALUE=DATE:18510502
SUMMARY:Tag der Arbeit
DESCRIPTION:Gesetzlicher Feiertag in Deutschland\nDatum: 01.05.1851\nWochentag: Donnerstag\nKalenderwoche: 18\nMehr unter: https://kalenderwoche.info/feiertage/1851
URL:https://kalenderwoche.info/feiertage/1851
CATEGORIES:Feiertag,Deutschland
TRANSP:TRANSPARENT
END:VEVENT
BEGIN:VEVENT
UID:feiertag-1851-d9ea857e13ef4fac55528f384419dd80@kalenderwoche.info
DTSTAMP:20260421T162412Z
DTSTART;VALUE=DATE:18510529
DTEND;VALUE=DATE:18510530
SUMMARY:Christi Himmelfahrt
DESCRIPTION:Gesetzlicher Feiertag in Deutschland\nDatum: 29.05.1851\nWochentag: Donnerstag\nKalenderwoche: 22\nMehr unter: https://kalenderwoche.info/feiertage/1851
URL:https://kalenderwoche.info/feiertage/1851
CATEGORIES:Feiertag,Deutschland
TRANSP:TRANSPARENT
END:VEVENT
BEGIN:VEVENT
UID:feiertag-1851-d9bc3f02503ad98ba6f059c190115421@kalenderwoche.info
DTSTAMP:20260421T162412Z
DTSTART;VALUE=DATE:18510609
DTEND;VALUE=DATE:18510610
SUMMARY:Pfingstmontag
DESCRIPTION:Gesetzlicher Feiertag in Deutschland\nDatum: 09.06.1851\nWochentag: Montag\nKalenderwoche: 24\nMehr unter: https://kalenderwoche.info/feiertage/1851
URL:https://kalenderwoche.info/feiertage/1851
CATEGORIES:Feiertag,Deutschland
TRANSP:TRANSPARENT
END:VEVENT
BEGIN:VEVENT
UID:feiertag-1851-4b9e7d97324e558fd24c90f4613dff58@kalenderwoche.info
DTSTAMP:20260421T162412Z
DTSTART;VALUE=DATE:18511003
DTEND;VALUE=DATE:18511004
SUMMARY:Tag der Deutschen Einheit
DESCRIPTION:Gesetzlicher Feiertag in Deutschland\nDatum: 03.10.1851\nWochentag: Freitag\nKalenderwoche: 40\nMehr unter: https://kalenderwoche.info/feiertage/1851
URL:https://kalenderwoche.info/feiertage/1851
CATEGORIES:Feiertag,Deutschland
TRANSP:TRANSPARENT
END:VEVENT
BEGIN:VEVENT
UID:feiertag-1851-aacf3168661fd18333a503eb91848c61@kalenderwoche.info
DTSTAMP:20260421T162412Z
DTSTART;VALUE=DATE:18511225
DTEND;VALUE=DATE:18511226
SUMMARY:1. Weihnachtstag
DESCRIPTION:Gesetzlicher Feiertag in Deutschland\nDatum: 25.12.1851\nWochentag: Donnerstag\nKalenderwoche: 52\nMehr unter: https://kalenderwoche.info/feiertage/1851
URL:https://kalenderwoche.info/feiertage/1851
CATEGORIES:Feiertag,Deutschland
TRANSP:TRANSPARENT
END:VEVENT
BEGIN:VEVENT
UID:feiertag-1851-294db9858a5e74c0cf3f0b9127e04e29@kalenderwoche.info
DTSTAMP:20260421T162412Z
DTSTART;VALUE=DATE:18511226
DTEND;VALUE=DATE:18511227
SUMMARY:2. Weihnachtstag
DESCRIPTION:Gesetzlicher Feiertag in Deutschland\nDatum: 26.12.1851\nWochentag: Freitag\nKalenderwoche: 52\nMehr unter: https://kalenderwoche.info/feiertage/1851
URL:https://kalenderwoche.info/feiertage/1851
CATEGORIES:Feiertag,Deutschland
TRANSP:TRANSPARENT
END:VEVENT
END:VCALENDAR
