BEGIN:VCALENDAR
VERSION:2.0
PRODID:-//kalenderwoche.info//Kalender//DE
CALSCALE:GREGORIAN
METHOD:PUBLISH
X-WR-CALNAME:Feiertage 1852 Deutschland
X-WR-CALDESC:Gesetzliche Feiertage Deutschland 1852
X-WR-TIMEZONE:Europe/Berlin
BEGIN:VEVENT
UID:feiertag-1852-7a61a0a76274d2f234c84e37fdbcc632@kalenderwoche.info
DTSTAMP:20260421T150513Z
DTSTART;VALUE=DATE:18520101
DTEND;VALUE=DATE:18520102
SUMMARY:Neujahr
DESCRIPTION:Gesetzlicher Feiertag in Deutschland\nDatum: 01.01.1852\nWochentag: Donnerstag\nKalenderwoche: 1\nMehr unter: https://kalenderwoche.info/feiertage/1852
URL:https://kalenderwoche.info/feiertage/1852
CATEGORIES:Feiertag,Deutschland
TRANSP:TRANSPARENT
END:VEVENT
BEGIN:VEVENT
UID:feiertag-1852-7bfc75b02ac1cad656c66d1112ecb054@kalenderwoche.info
DTSTAMP:20260421T150513Z
DTSTART;VALUE=DATE:18520409
DTEND;VALUE=DATE:18520410
SUMMARY:Karfreitag
DESCRIPTION:Gesetzlicher Feiertag in Deutschland\nDatum: 09.04.1852\nWochentag: Freitag\nKalenderwoche: 15\nMehr unter: https://kalenderwoche.info/feiertage/1852
URL:https://kalenderwoche.info/feiertage/1852
CATEGORIES:Feiertag,Deutschland
TRANSP:TRANSPARENT
END:VEVENT
BEGIN:VEVENT
UID:feiertag-1852-3a0d76a6d09e46face98457e0ae667d1@kalenderwoche.info
DTSTAMP:20260421T150513Z
DTSTART;VALUE=DATE:18520412
DTEND;VALUE=DATE:18520413
SUMMARY:Ostermontag
DESCRIPTION:Gesetzlicher Feiertag in Deutschland\nDatum: 12.04.1852\nWochentag: Montag\nKalenderwoche: 16\nMehr unter: https://kalenderwoche.info/feiertage/1852
URL:https://kalenderwoche.info/feiertage/1852
CATEGORIES:Feiertag,Deutschland
TRANSP:TRANSPARENT
END:VEVENT
BEGIN:VEVENT
UID:feiertag-1852-4a382c60d175c64e26e581ac404adb1c@kalenderwoche.info
DTSTAMP:20260421T150513Z
DTSTART;VALUE=DATE:18520501
DTEND;VALUE=DATE:18520502
SUMMARY:Tag der Arbeit
DESCRIPTION:Gesetzlicher Feiertag in Deutschland\nDatum: 01.05.1852\nWochentag: Samstag\nKalenderwoche: 18\nMehr unter: https://kalenderwoche.info/feiertage/1852
URL:https://kalenderwoche.info/feiertage/1852
CATEGORIES:Feiertag,Deutschland
TRANSP:TRANSPARENT
END:VEVENT
BEGIN:VEVENT
UID:feiertag-1852-d9ea857e13ef4fac55528f384419dd80@kalenderwoche.info
DTSTAMP:20260421T150513Z
DTSTART;VALUE=DATE:18520520
DTEND;VALUE=DATE:18520521
SUMMARY:Christi Himmelfahrt
DESCRIPTION:Gesetzlicher Feiertag in Deutschland\nDatum: 20.05.1852\nWochentag: Donnerstag\nKalenderwoche: 21\nMehr unter: https://kalenderwoche.info/feiertage/1852
URL:https://kalenderwoche.info/feiertage/1852
CATEGORIES:Feiertag,Deutschland
TRANSP:TRANSPARENT
END:VEVENT
BEGIN:VEVENT
UID:feiertag-1852-d9bc3f02503ad98ba6f059c190115421@kalenderwoche.info
DTSTAMP:20260421T150513Z
DTSTART;VALUE=DATE:18520531
DTEND;VALUE=DATE:18520601
SUMMARY:Pfingstmontag
DESCRIPTION:Gesetzlicher Feiertag in Deutschland\nDatum: 31.05.1852\nWochentag: Montag\nKalenderwoche: 23\nMehr unter: https://kalenderwoche.info/feiertage/1852
URL:https://kalenderwoche.info/feiertage/1852
CATEGORIES:Feiertag,Deutschland
TRANSP:TRANSPARENT
END:VEVENT
BEGIN:VEVENT
UID:feiertag-1852-4b9e7d97324e558fd24c90f4613dff58@kalenderwoche.info
DTSTAMP:20260421T150513Z
DTSTART;VALUE=DATE:18521003
DTEND;VALUE=DATE:18521004
SUMMARY:Tag der Deutschen Einheit
DESCRIPTION:Gesetzlicher Feiertag in Deutschland\nDatum: 03.10.1852\nWochentag: Sonntag\nKalenderwoche: 40\nMehr unter: https://kalenderwoche.info/feiertage/1852
URL:https://kalenderwoche.info/feiertage/1852
CATEGORIES:Feiertag,Deutschland
TRANSP:TRANSPARENT
END:VEVENT
BEGIN:VEVENT
UID:feiertag-1852-aacf3168661fd18333a503eb91848c61@kalenderwoche.info
DTSTAMP:20260421T150513Z
DTSTART;VALUE=DATE:18521225
DTEND;VALUE=DATE:18521226
SUMMARY:1. Weihnachtstag
DESCRIPTION:Gesetzlicher Feiertag in Deutschland\nDatum: 25.12.1852\nWochentag: Samstag\nKalenderwoche: 52\nMehr unter: https://kalenderwoche.info/feiertage/1852
URL:https://kalenderwoche.info/feiertage/1852
CATEGORIES:Feiertag,Deutschland
TRANSP:TRANSPARENT
END:VEVENT
BEGIN:VEVENT
UID:feiertag-1852-294db9858a5e74c0cf3f0b9127e04e29@kalenderwoche.info
DTSTAMP:20260421T150513Z
DTSTART;VALUE=DATE:18521226
DTEND;VALUE=DATE:18521227
SUMMARY:2. Weihnachtstag
DESCRIPTION:Gesetzlicher Feiertag in Deutschland\nDatum: 26.12.1852\nWochentag: Sonntag\nKalenderwoche: 52\nMehr unter: https://kalenderwoche.info/feiertage/1852
URL:https://kalenderwoche.info/feiertage/1852
CATEGORIES:Feiertag,Deutschland
TRANSP:TRANSPARENT
END:VEVENT
END:VCALENDAR
